BEGIN:VCALENDAR
VERSION:2.0
PRODID:icalendar-ruby
CALSCALE:GREGORIAN
METHOD:PUBLISH
BEGIN:VEVENT
DTSTAMP:20260422T102427Z
UID:5-407388@wellof148.tithelysetup2.com
DTSTART:20260503T170000Z
DTEND:20260503T180000Z
CLASS:PUBLIC
CREATED:20260421T164239
DESCRIPTION:Sunday Worship
LAST-MODIFIED:20260421T164239
LOCATION:
SUMMARY:Sunday Worship
URL;VALUE=URI:https://wellof148.tithelysetup2.com/events/sunday-worship/202
 6-05-03
END:VEVENT
END:VCALENDAR
